BEGIN:VCALENDAR
VERSION:2.0
PRODID:-//Voyages Plein Soleil - ECPv6.15.20//NONSGML v1.0//EN
CALSCALE:GREGORIAN
METHOD:PUBLISH
X-WR-CALNAME:Voyages Plein Soleil
X-ORIGINAL-URL:https://pleinsoleil.com
X-WR-CALDESC:Évènements pour Voyages Plein Soleil
REFRESH-INTERVAL;VALUE=DURATION:PT1H
X-Robots-Tag:noindex
X-PUBLISHED-TTL:PT1H
BEGIN:VTIMEZONE
TZID:America/New_York
BEGIN:DAYLIGHT
TZOFFSETFROM:-0500
TZOFFSETTO:-0400
TZNAME:EDT
DTSTART:20250309T070000
END:DAYLIGHT
BEGIN:STANDARD
TZOFFSETFROM:-0400
TZOFFSETTO:-0500
TZNAME:EST
DTSTART:20251102T060000
END:STANDARD
BEGIN:DAYLIGHT
TZOFFSETFROM:-0500
TZOFFSETTO:-0400
TZNAME:EDT
DTSTART:20260308T070000
END:DAYLIGHT
BEGIN:STANDARD
TZOFFSETFROM:-0400
TZOFFSETTO:-0500
TZNAME:EST
DTSTART:20261101T060000
END:STANDARD
BEGIN:DAYLIGHT
TZOFFSETFROM:-0500
TZOFFSETTO:-0400
TZNAME:EDT
DTSTART:20270314T070000
END:DAYLIGHT
BEGIN:STANDARD
TZOFFSETFROM:-0400
TZOFFSETTO:-0500
TZNAME:EST
DTSTART:20271107T060000
END:STANDARD
END:VTIMEZONE
BEGIN:VEVENT
DTSTART;TZID=America/New_York:20260114T183000
DTEND;TZID=America/New_York:20260114T203000
DTSTAMP:20260421T160826
CREATED:20251124T203209Z
LAST-MODIFIED:20251215T212754Z
UID:15382-1768415400-1768422600@pleinsoleil.com
SUMMARY:Présentation en agence : Voyage organisé en Tunisie\, Pickleball au Sentino Bellevue Park
DESCRIPTION:Vol direct – Transferts aller/retour – Terrain de pickleball exclusif à Terratours – Accompagnateur du Québec – Hébergement en demi pension + ou en formule tout inclus – Places limitées \nVous voulez vivre une expérience unique au bord de la Méditerranée\, deux semaines de soleil\, en pratiquant votre sport favori\, ayant accès à des terrains de Pickleball neufs\,  alliant découvertes culturelles dans un hôtel 5*. Ce forfait est pour vous. \nVenez découvrir les tout nouveaux terrains de pickleball exclusifs à Terratours à l’hôtel Sentido Bellevue Park 5*\, situé au cœur de Port El Kantaoui en Tunisie\, avec vol direct au départ de Montréal. Vivez une expérience unique en pratiquant le pickleball entre passionnés dans un groupe chaleureux\, tout en profitant d’un séjour alliant confort\, sport\, culture et découvertes. \n  \n\n\n\nVotre conférencière : Martine Bouffard
URL:https://pleinsoleil.com/evenement/presentation-en-agence-voyage-organise-en-tunisie-pickleball-au-sentino-bellevue-park/
LOCATION:Voyages Plein Soleil\, Voyages Plein Soleil\, Québec\, Québec\, G2C 1T8\, Canada
CATEGORIES:Présentations voyages
END:VEVENT
END:VCALENDAR