BEGIN:VCALENDAR
VERSION:2.0
PRODID:-//Voyages Plein Soleil - ECPv6.15.20//NONSGML v1.0//EN
CALSCALE:GREGORIAN
METHOD:PUBLISH
X-ORIGINAL-URL:https://pleinsoleil.com
X-WR-CALDESC:Évènements pour Voyages Plein Soleil
REFRESH-INTERVAL;VALUE=DURATION:PT1H
X-Robots-Tag:noindex
X-PUBLISHED-TTL:PT1H
BEGIN:VTIMEZONE
TZID:America/New_York
BEGIN:DAYLIGHT
TZOFFSETFROM:-0500
TZOFFSETTO:-0400
TZNAME:EDT
DTSTART:20250309T070000
END:DAYLIGHT
BEGIN:STANDARD
TZOFFSETFROM:-0400
TZOFFSETTO:-0500
TZNAME:EST
DTSTART:20251102T060000
END:STANDARD
BEGIN:DAYLIGHT
TZOFFSETFROM:-0500
TZOFFSETTO:-0400
TZNAME:EDT
DTSTART:20260308T070000
END:DAYLIGHT
BEGIN:STANDARD
TZOFFSETFROM:-0400
TZOFFSETTO:-0500
TZNAME:EST
DTSTART:20261101T060000
END:STANDARD
BEGIN:DAYLIGHT
TZOFFSETFROM:-0500
TZOFFSETTO:-0400
TZNAME:EDT
DTSTART:20270314T070000
END:DAYLIGHT
BEGIN:STANDARD
TZOFFSETFROM:-0400
TZOFFSETTO:-0500
TZNAME:EST
DTSTART:20271107T060000
END:STANDARD
END:VTIMEZONE
BEGIN:VEVENT
DTSTART;TZID=America/New_York:20260120T183000
DTEND;TZID=America/New_York:20260120T200000
DTSTAMP:20260421T161451
CREATED:20260112T212730Z
LAST-MODIFIED:20260113T160225Z
UID:15701-1768933800-1768939200@pleinsoleil.com
SUMMARY:Présentation en agence : Séjours sur la Côte d'Azur
DESCRIPTION:Ce printemps\, laissez-vous inspirer par la beauté de Marseille pour commencer votre voyage. Flânez dans ses rues ensoleillées\, imprégnez-vous de son art de vivre\, et ressentez la magie unique de la cité phocéenne. Puis\, plongez au cœur de Saint-Raphaël\, station balnéaire pleine de charme où se mêlent mer turquoise\, marchés provençaux et art de vivre méditerranéen. C’est là que le séjour prend tout son sens : un rythme apaisant\, des paysages à couper le souffle et une immersion authentique dans le sud de la France. Terminez avec le charme coloré de Nice\, entre façades pastel\, ruelles animées et douceur de vivre sur la Promenade des Anglais — une dernière escale en beauté sur la Riviera. Un séjour accompagné\, en appartements\, pour savourer la France dans toute sa diversité. \nUne présentation qui vous fera découvrir nos forfaits en appartement sur la Côte d’Azur et qui vous charmera à coup sûr. \n  \n \n  \n\n\n\nVotre conférencière : Isabelle Thivierge
URL:https://pleinsoleil.com/evenement/presentation-en-agence-sejours-sur-la-cote-dazur/
LOCATION:Voyages Plein Soleil\, Voyages Plein Soleil\, Québec\, Québec\, G2C 1T8\, Canada
CATEGORIES:Présentations voyages
END:VEVENT
END:VCALENDAR