BEGIN:VCALENDAR
VERSION:2.0
PRODID:-//Voyages Plein Soleil - ECPv6.15.20//NONSGML v1.0//EN
CALSCALE:GREGORIAN
METHOD:PUBLISH
X-WR-CALNAME:Voyages Plein Soleil
X-ORIGINAL-URL:https://pleinsoleil.com
X-WR-CALDESC:Évènements pour Voyages Plein Soleil
REFRESH-INTERVAL;VALUE=DURATION:PT1H
X-Robots-Tag:noindex
X-PUBLISHED-TTL:PT1H
BEGIN:VTIMEZONE
TZID:America/New_York
BEGIN:DAYLIGHT
TZOFFSETFROM:-0500
TZOFFSETTO:-0400
TZNAME:EDT
DTSTART:20250309T070000
END:DAYLIGHT
BEGIN:STANDARD
TZOFFSETFROM:-0400
TZOFFSETTO:-0500
TZNAME:EST
DTSTART:20251102T060000
END:STANDARD
BEGIN:DAYLIGHT
TZOFFSETFROM:-0500
TZOFFSETTO:-0400
TZNAME:EDT
DTSTART:20260308T070000
END:DAYLIGHT
BEGIN:STANDARD
TZOFFSETFROM:-0400
TZOFFSETTO:-0500
TZNAME:EST
DTSTART:20261101T060000
END:STANDARD
BEGIN:DAYLIGHT
TZOFFSETFROM:-0500
TZOFFSETTO:-0400
TZNAME:EDT
DTSTART:20270314T070000
END:DAYLIGHT
BEGIN:STANDARD
TZOFFSETFROM:-0400
TZOFFSETTO:-0500
TZNAME:EST
DTSTART:20271107T060000
END:STANDARD
END:VTIMEZONE
BEGIN:VEVENT
DTSTART;TZID=America/New_York:20260207T140000
DTEND;TZID=America/New_York:20260207T180000
DTSTAMP:20260421T143105
CREATED:20260202T172842Z
LAST-MODIFIED:20260202T175337Z
UID:15899-1770472800-1770487200@pleinsoleil.com
SUMMARY:Présentation en agence : Voyage du Bella Desgagnés - Relais Nordik
DESCRIPTION:Voyage du Bella Desgagnés : Relais Nordik du 13 au 20 avril 2026 \nÀ la découverte du Saint-Laurent et du golfe – Croisière Bella Desgagnés\nEn avril\, vivez la magie du Bella Desgagnés : des paysages hivernaux grandioses\, la glace qui se fend sous la proue et le Saint-Laurent dans toute sa puissance. \nEmbarquez pour une aventure inoubliable où le fleuve et le golfe du Saint-Laurent se dévoilent dans toute leur splendeur. Entre villages pittoresques\, forêts vierges\, fjords silencieux et spectacles de glace\, cette croisière vous plonge dans un monde sauvage\, préservé et fascinant. \nLien pour s’inscrire : Inscription \n\n\nVotre conférencier\n\n \nAlain Winter
URL:https://pleinsoleil.com/evenement/presentation-en-agence-voyage-du-bella-desgagnes-relais-nordik/
LOCATION:Voyages Plein Soleil\, Voyages Plein Soleil\, Québec\, Québec\, G2C 1T8\, Canada
CATEGORIES:Présentations voyages
END:VEVENT
END:VCALENDAR