BEGIN:VCALENDAR
VERSION:2.0
PRODID:-//Voyages Plein Soleil - ECPv6.15.20//NONSGML v1.0//EN
CALSCALE:GREGORIAN
METHOD:PUBLISH
X-WR-CALNAME:Voyages Plein Soleil
X-ORIGINAL-URL:https://pleinsoleil.com
X-WR-CALDESC:Évènements pour Voyages Plein Soleil
REFRESH-INTERVAL;VALUE=DURATION:PT1H
X-Robots-Tag:noindex
X-PUBLISHED-TTL:PT1H
BEGIN:VTIMEZONE
TZID:America/New_York
BEGIN:DAYLIGHT
TZOFFSETFROM:-0500
TZOFFSETTO:-0400
TZNAME:EDT
DTSTART:20250309T070000
END:DAYLIGHT
BEGIN:STANDARD
TZOFFSETFROM:-0400
TZOFFSETTO:-0500
TZNAME:EST
DTSTART:20251102T060000
END:STANDARD
BEGIN:DAYLIGHT
TZOFFSETFROM:-0500
TZOFFSETTO:-0400
TZNAME:EDT
DTSTART:20260308T070000
END:DAYLIGHT
BEGIN:STANDARD
TZOFFSETFROM:-0400
TZOFFSETTO:-0500
TZNAME:EST
DTSTART:20261101T060000
END:STANDARD
BEGIN:DAYLIGHT
TZOFFSETFROM:-0500
TZOFFSETTO:-0400
TZNAME:EDT
DTSTART:20270314T070000
END:DAYLIGHT
BEGIN:STANDARD
TZOFFSETFROM:-0400
TZOFFSETTO:-0500
TZNAME:EST
DTSTART:20271107T060000
END:STANDARD
END:VTIMEZONE
BEGIN:VEVENT
DTSTART;TZID=America/New_York:20260221T093000
DTEND;TZID=America/New_York:20260221T113000
DTSTAMP:20260421T143407
CREATED:20260130T213818Z
LAST-MODIFIED:20260202T180405Z
UID:15893-1771666200-1771673400@pleinsoleil.com
SUMMARY:Présentation virtuelle : La Gaspésie et les Îles-de-la-Madeleine
DESCRIPTION:Un lien Zoom vous sera envoyé par courriel quelques jours avant la présentation \nVoyage présenté :\nLa Gaspésie et les Îles-de-la-Madeleine 2026 \nPartez à la découverte de la Gaspésie et des Îles-de-la-Madeleine en 2026\, deux joyaux du Québec aux paysages grandioses et au charme maritime unique. Falaises spectaculaires\, villages côtiers\, plages de sable fin et accueil chaleureux ponctuent ce voyage riche en découvertes. Une escapade dépaysante entre mer\, nature et traditions. \nLien pour s’inscrire : Inscription \n\nPercé\, Gaspésie\, © Mathieu Dupuis\n\n\nVotre conférencier\n\n \nAlain Winter
URL:https://pleinsoleil.com/evenement/presentation-virtuelle-la-gaspesie-et-les-iles-de-la-madeleine/
LOCATION:En ligne sur Zoom
CATEGORIES:Présentations voyages
END:VEVENT
END:VCALENDAR