BEGIN:VCALENDAR
VERSION:2.0
PRODID:-//Voyages Plein Soleil - ECPv6.15.20//NONSGML v1.0//EN
CALSCALE:GREGORIAN
METHOD:PUBLISH
X-WR-CALNAME:Voyages Plein Soleil
X-ORIGINAL-URL:https://pleinsoleil.com
X-WR-CALDESC:Évènements pour Voyages Plein Soleil
REFRESH-INTERVAL;VALUE=DURATION:PT1H
X-Robots-Tag:noindex
X-PUBLISHED-TTL:PT1H
BEGIN:VTIMEZONE
TZID:America/New_York
BEGIN:DAYLIGHT
TZOFFSETFROM:-0500
TZOFFSETTO:-0400
TZNAME:EDT
DTSTART:20250309T070000
END:DAYLIGHT
BEGIN:STANDARD
TZOFFSETFROM:-0400
TZOFFSETTO:-0500
TZNAME:EST
DTSTART:20251102T060000
END:STANDARD
BEGIN:DAYLIGHT
TZOFFSETFROM:-0500
TZOFFSETTO:-0400
TZNAME:EDT
DTSTART:20260308T070000
END:DAYLIGHT
BEGIN:STANDARD
TZOFFSETFROM:-0400
TZOFFSETTO:-0500
TZNAME:EST
DTSTART:20261101T060000
END:STANDARD
BEGIN:DAYLIGHT
TZOFFSETFROM:-0500
TZOFFSETTO:-0400
TZNAME:EDT
DTSTART:20270314T070000
END:DAYLIGHT
BEGIN:STANDARD
TZOFFSETFROM:-0400
TZOFFSETTO:-0500
TZNAME:EST
DTSTART:20271107T060000
END:STANDARD
END:VTIMEZONE
BEGIN:VEVENT
DTSTART;TZID=America/New_York:20260228T093000
DTEND;TZID=America/New_York:20260228T113000
DTSTAMP:20260421T143105
CREATED:20260130T204842Z
LAST-MODIFIED:20260130T204955Z
UID:15877-1772271000-1772278200@pleinsoleil.com
SUMMARY:Présentation en agence : Nos voyages de courtes durées entre 1 à 4 jours
DESCRIPTION:Explorez des destinations coup de cœur\, le temps de quelques jours.\nNos courts séjours vous mènent au cœur de régions riches en découvertes : paysages naturels impressionnants\, villes vibrantes\, villages de caractère et expériences culturelles marquantes. Que ce soit pour une escapade gourmande\, culturelle ou panoramique\, chaque voyage est conçu pour vous faire vivre le meilleur d’une destination\, sans souci et en toute convivialité. \nLien pour s’inscrire : Inscription \n\nVotre conférencier\n\n \nAlain Winter
URL:https://pleinsoleil.com/evenement/presentation-en-agence-nos-voyages-de-courtes-durees-entre-1-a-4-jours/
LOCATION:Voyages Plein Soleil\, Voyages Plein Soleil\, Québec\, Québec\, G2C 1T8\, Canada
CATEGORIES:Présentations voyages
END:VEVENT
END:VCALENDAR