BEGIN:VCALENDAR
VERSION:2.0
PRODID:-//Voyages Plein Soleil - ECPv6.15.20//NONSGML v1.0//EN
CALSCALE:GREGORIAN
METHOD:PUBLISH
X-WR-CALNAME:Voyages Plein Soleil
X-ORIGINAL-URL:https://pleinsoleil.com
X-WR-CALDESC:Évènements pour Voyages Plein Soleil
REFRESH-INTERVAL;VALUE=DURATION:PT1H
X-Robots-Tag:noindex
X-PUBLISHED-TTL:PT1H
BEGIN:VTIMEZONE
TZID:America/New_York
BEGIN:DAYLIGHT
TZOFFSETFROM:-0500
TZOFFSETTO:-0400
TZNAME:EDT
DTSTART:20250309T070000
END:DAYLIGHT
BEGIN:STANDARD
TZOFFSETFROM:-0400
TZOFFSETTO:-0500
TZNAME:EST
DTSTART:20251102T060000
END:STANDARD
BEGIN:DAYLIGHT
TZOFFSETFROM:-0500
TZOFFSETTO:-0400
TZNAME:EDT
DTSTART:20260308T070000
END:DAYLIGHT
BEGIN:STANDARD
TZOFFSETFROM:-0400
TZOFFSETTO:-0500
TZNAME:EST
DTSTART:20261101T060000
END:STANDARD
BEGIN:DAYLIGHT
TZOFFSETFROM:-0500
TZOFFSETTO:-0400
TZNAME:EDT
DTSTART:20270314T070000
END:DAYLIGHT
BEGIN:STANDARD
TZOFFSETFROM:-0400
TZOFFSETTO:-0500
TZNAME:EST
DTSTART:20271107T060000
END:STANDARD
END:VTIMEZONE
BEGIN:VEVENT
DTSTART;TZID=America/New_York:20260304T180000
DTEND;TZID=America/New_York:20260304T200000
DTSTAMP:20260421T111533
CREATED:20260216T185618Z
LAST-MODIFIED:20260216T185618Z
UID:16030-1772647200-1772654400@pleinsoleil.com
SUMMARY:Présentation en agence : Croisière sur le Danube
DESCRIPTION:Croisière fluviale sur le Danube de 12 jours \nDates de voyage : 2 au 13 octobre 2026 Départ de Québec \nPetit Groupe 20 personnes maximum \nEmbarquez pour une traversée légendaire au cœur de l’Europe Centrale et découvrez les merveilles de forfait exclusif lors de cette présentation spéciale animée par Marie-Pierre Ruatta (spécialiste). \n\n                \n            \n\nVotre conférencière\n\n \nMarie-Pierre Ruatta
URL:https://pleinsoleil.com/evenement/presentation-en-agence-croisiere-sur-le-danube-2/
LOCATION:Voyages Plein Soleil\, Voyages Plein Soleil\, Québec\, Québec\, G2C 1T8\, Canada
CATEGORIES:Présentations voyages
END:VEVENT
BEGIN:VEVENT
DTSTART;TZID=America/New_York:20260311T180000
DTEND;TZID=America/New_York:20260311T203000
DTSTAMP:20260421T111533
CREATED:20260216T190341Z
LAST-MODIFIED:20260216T190341Z
UID:16043-1773252000-1773261000@pleinsoleil.com
SUMMARY:Présentation en agence : Croisière sur le Danube
DESCRIPTION:Croisière fluviale sur le Danube de 12 jours \nDates de voyage : 2 au 13 octobre 2026 Départ de Québec \nPetit Groupe 20 personnes maximum \nEmbarquez pour une traversée légendaire au cœur de l’Europe Centrale et découvrez les merveilles de forfait exclusif lors de cette présentation spéciale animée par Marie-Pierre Ruatta (spécialiste). \n\n                \n            \n\nVotre conférencière\n\n \nMarie-Pierre Ruatta
URL:https://pleinsoleil.com/evenement/presentation-en-agence-croisiere-sur-le-danube-3/
LOCATION:Voyages Plein Soleil\, Voyages Plein Soleil\, Québec\, Québec\, G2C 1T8\, Canada
CATEGORIES:Présentations voyages
END:VEVENT
BEGIN:VEVENT
DTSTART;TZID=America/New_York:20260324T183000
DTEND;TZID=America/New_York:20260324T200000
DTSTAMP:20260421T111533
CREATED:20260320T135117Z
LAST-MODIFIED:20260320T140759Z
UID:16491-1774377000-1774382400@pleinsoleil.com
SUMMARY:Présentation en agence : Mosaïque Suisse
DESCRIPTION:Mosaïque Suisse \nDates de voyage : 20 septembre au 4 octobre 2026 \nPays de contrastes avec ses villes et sa campagne\, ses traditions et sa modernité\, ses neiges éternelles et ses palmiers\, ses lacs et ses glaciers\, la Suisse demeure un pays méconnu. Nous vous invitons à venir découvrir les nombreuses facettes de la Suisse qui font d’elle un pays étonnant et unique. Ce groupe est en partenariat avec la CJR (Compagnie des jeunes retraités de Charlesbourg). \nEmbarquez pour une traversée légendaire au cœur de l’Europe Centrale et découvrez les merveilles de forfait exclusif lors de cette présentation spéciale animée par Marie-Pierre Ruatta (spécialiste). \n \n\n\n\n\nVotre conférencier : Sylvain Ouellet (Tours Chanteclerc)
URL:https://pleinsoleil.com/evenement/presentation-en-agence-mosaique-suisse-2/
CATEGORIES:Présentations voyages
END:VEVENT
END:VCALENDAR